BEGIN:VCALENDAR
VERSION:2.0
PRODID:-//eventon.com NONSGML v1.0//EN
CALSCALE:GREGORIAN
METHOD:PUBLISH
BEGIN:VEVENT
UID:69e7c05a1de7e
DTSTAMP:20260421T182218Z
DTSTART:20260724T153000Z
DTEND:20260724T163000Z
LOCATION:
SUMMARY:Curiosity Kids: BE CREATIVE! Multi-Medium Art
DESCRIPTION:Put your artistic talents to the challenge. Be creative by usin
 g multiple mediums to bring your own artistic vision to life. Found Object 
 Sculpture\,  Landscape\,  Still Life\,  Portrait ... it is up to you what y
 ou create. The only limit is your imagination. Curiosity Kids programs are 
 designed for visitors[..]\nhttps://statemuseumpa.org/events/ck-art/
URL:https://statemuseumpa.org/events/ck-art/
END:VEVENT
END:VCALENDAR