BEGIN:VCALENDAR
VERSION:2.0
PRODID:-//eventon.com NONSGML v1.0//EN
CALSCALE:GREGORIAN
METHOD:PUBLISH
BEGIN:VEVENT
UID:69e7c0410d082
DTSTAMP:20260421T182153Z
DTSTART:20260710T153000Z
DTEND:20260710T163000Z
LOCATION:
SUMMARY:Curiosity Kids: Slime!
DESCRIPTION:Join Curiosity Kids to explore SLIME! Explore what a polymer is
  and make a handful of slime to take home! Discover why slime is so stretch
 y\,  slippy\,  and well ... slimey! Curiosity Kids programs are designed fo
 r visitors age kindergarten to grade 2. Programs are free\,  but space is l
 imited.[..]\nhttps://statemuseumpa.org/events/ck-slime/
URL:https://statemuseumpa.org/events/ck-slime/
END:VEVENT
END:VCALENDAR