BEGIN:VCALENDAR
VERSION:2.0
PRODID:-//eventon.com NONSGML v1.0//EN
CALSCALE:GREGORIAN
METHOD:PUBLISH
BEGIN:VEVENT
UID:69e5f80523fe3
DTSTAMP:20260420T095517Z
DTSTART:20260710T161500Z
DTEND:20260710T164500Z
LOCATION:
SUMMARY:Virtual Program: 101 years of Landis Valley Village and Farm Museum
DESCRIPTION:Learn the story of Henry and George Landis\,  descendants of Ge
 rmanic Lancaster County Mennonite families that moved to the area in 1717\,
   and later became the founders of Landis Valley Village and Farm Museum. J
 oin Jennifer Royer\,  Museum Curator at Landis Valley Village and Farm Muse
 um\,  to hear about the[..]\nhttps://statemuseumpa.org/events/virtual-landi
 s/
URL:https://statemuseumpa.org/events/virtual-landis/
END:VEVENT
END:VCALENDAR