BEGIN:VCALENDAR
VERSION:2.0
PRODID:-//eventon.com NONSGML v1.0//EN
CALSCALE:GREGORIAN
METHOD:PUBLISH
BEGIN:VEVENT
UID:69e9ebcd3003c
DTSTAMP:20260423T095213Z
DTSTART:20260626T153000Z
DTEND:20260626T043000Z
LOCATION:
SUMMARY:Curiosity Kids: Color
DESCRIPTION:Join Curiosity Kids to learn about COLOR. Explore the colors of
  the rainbow\,  primary & secondary colors\,  and get your hands colorful w
 ith some fingerpainting. See if you can mix your favorite color! Curiosity 
 Kids programs are designed for visitors age kindergarten to grade 2. Progra
 ms are free\,  but space[..]\nhttps://statemuseumpa.org/events/ck-color/
URL:https://statemuseumpa.org/events/ck-color/
END:VEVENT
END:VCALENDAR