BEGIN:VCALENDAR
VERSION:2.0
PRODID:-//eventon.com NONSGML v1.0//EN
CALSCALE:GREGORIAN
METHOD:PUBLISH
BEGIN:VEVENT
UID:69e794e79bf05
DTSTAMP:20260421T151655Z
DTSTART:20260508T153000Z
DTEND:20260508T043000Z
LOCATION:
SUMMARY:Curiosity Kids: Build It!
DESCRIPTION:Join Curiosity Kids to learn about engineering. See if you can 
 solve some fun building challenges. Curiosity Kids programs are designed fo
 r visitors age kindergarten to grade 2. Programs are free\,  but space is l
 imited. Please pick up a free ticket at the front desk when you arrive.\nht
 tps://statemuseumpa.org/events/ck-build-it/
URL:https://statemuseumpa.org/events/ck-build-it/
END:VEVENT
END:VCALENDAR